BEGIN:VCALENDAR
VERSION:2.0
PRODID:-//Villa Giada MTC Roma - ECPv6.15.18//NONSGML v1.0//EN
CALSCALE:GREGORIAN
METHOD:PUBLISH
X-ORIGINAL-URL:https://chinalink.it
X-WR-CALDESC:Eventi per Villa Giada MTC Roma
REFRESH-INTERVAL;VALUE=DURATION:PT1H
X-Robots-Tag:noindex
X-PUBLISHED-TTL:PT1H
BEGIN:VTIMEZONE
TZID:Europe/Rome
BEGIN:DAYLIGHT
TZOFFSETFROM:+0100
TZOFFSETTO:+0200
TZNAME:CEST
DTSTART:20250330T010000
END:DAYLIGHT
BEGIN:STANDARD
TZOFFSETFROM:+0200
TZOFFSETTO:+0100
TZNAME:CET
DTSTART:20251026T010000
END:STANDARD
BEGIN:DAYLIGHT
TZOFFSETFROM:+0100
TZOFFSETTO:+0200
TZNAME:CEST
DTSTART:20260329T010000
END:DAYLIGHT
BEGIN:STANDARD
TZOFFSETFROM:+0200
TZOFFSETTO:+0100
TZNAME:CET
DTSTART:20261025T010000
END:STANDARD
BEGIN:DAYLIGHT
TZOFFSETFROM:+0100
TZOFFSETTO:+0200
TZNAME:CEST
DTSTART:20270328T010000
END:DAYLIGHT
BEGIN:STANDARD
TZOFFSETFROM:+0200
TZOFFSETTO:+0100
TZNAME:CET
DTSTART:20271031T010000
END:STANDARD
END:VTIMEZONE
BEGIN:VEVENT
DTSTART;TZID=Europe/Rome:20260207T150000
DTEND;TZID=Europe/Rome:20260221T170000
DTSTAMP:20260419T203121
CREATED:20251030T150058Z
LAST-MODIFIED:20251223T113112Z
UID:11040-1770476400-1771693200@chinalink.it
SUMMARY:Corso intensivo di Auricoloterapia
DESCRIPTION:Corso intensivo teorico-pratico di Auricoloterapia\, intesa come componente della Medicina Tradizionale Cinese e tecnica a se stante\, da applicare da sola o in sinergia con altre metodiche. Una tecnica olistica semplice ed efficace su un ampio spettro di condizioni cliniche e di prevenzione\,  basata sulla stimolazione dei punti riflessi situati sul padiglione auricolare. Con l’utilizzo di supporti non invasivi l’Auricoloterapia rientra nell’ambito delle discipline olistiche e bionaturali e può essere applicata anche dagli Operatori non medici. 
URL:https://chinalink.it/appuntamento/corso-intensivo-di-auricoloterapia/
LOCATION:Via Attilio Odero 17 00133 Roma\, Via Attilio Odero 17\, Roma\, Roma\, 00133
ORGANIZER;CN="Istituto Superiore di Medicina Tradizionale Cinese Villa Giada":MAILTO:villagiada@chinalink.it
END:VEVENT
BEGIN:VEVENT
DTSTART;TZID=Europe/Rome:20260218T080000
DTEND;TZID=Europe/Rome:20260218T170000
DTSTAMP:20260419T203121
CREATED:20260204T102638Z
LAST-MODIFIED:20260204T102647Z
UID:11241-1771401600-1771434000@chinalink.it
SUMMARY:Nuovo Corso Tuina Villa Giada Sud
DESCRIPTION:Aperte fino al 18 febbraio le iscrizioni al Corso di Tuina e tecniche integrate: percorso rivolto a Laureati Triennali e Magistrali in Scienze Motorie\, Preparatori atletici\, Allenatori\, Personal Trainer e Massaggiatori residenti in Campania e zone limitrofe. Informazioni e iscrizioni: formed.in@libero.it
URL:https://chinalink.it/appuntamento/nuovo-corso-tuina-villa-giada-sud/
LOCATION:Formed\, Corso Trieste 291\, Caserta
ORGANIZER;CN="Formed - Ente di Formazione Didattica e Cultura%C2%A0":MAILTO:formed.in@libero.it
END:VEVENT
BEGIN:VEVENT
DTSTART;TZID=Europe/Rome:20260301T080000
DTEND;TZID=Europe/Rome:20260301T170000
DTSTAMP:20260419T203121
CREATED:20260204T104604Z
LAST-MODIFIED:20260204T104734Z
UID:11252-1772352000-1772384400@chinalink.it
SUMMARY:Corso di Dietoterapia Yangsheng
DESCRIPTION:Corso di Dietetica Yangsheng\, una branca fondamentale della scienza della prevenzione in Medicina Tradizionale Cinese. Aperto a tutti gli interessati\, in possesso di conoscenze di base di teoria medica cinese. Iscrizioni aperte fino al 20-02-06. Per info e iscrizioni: https://chinalink.it/dietoterapia-yangsheng/
URL:https://chinalink.it/appuntamento/corso-di-dietoterapia-yangsheng/
LOCATION:RM
ORGANIZER;CN="Istituto Superiore di Medicina Tradizionale Cinese Villa Giada":MAILTO:villagiada@chinalink.it
END:VEVENT
BEGIN:VEVENT
DTSTART;TZID=Europe/Rome:20260329T080000
DTEND;TZID=Europe/Rome:20260418T170000
DTSTAMP:20260419T203121
CREATED:20260204T103454Z
LAST-MODIFIED:20260204T103458Z
UID:11248-1774771200-1776531600@chinalink.it
SUMMARY:Corso di Moxa e coppettazione
DESCRIPTION:Corso intensivo di Moxa e Coppettazione rivolto a Medici e Operatori in possesso di conoscenze di base di Medicina Tradizionale Cinese e teoria dei Meridiani. Iscrizioni aperte fino al 12-03-2026. Per informazioni e iscrizioni: https://chinalink.it/moxa-e-coppettazione/
URL:https://chinalink.it/appuntamento/corso-di-moxa-e-coppettazione-3/
LOCATION:RM
ORGANIZER;CN="Istituto Superiore di Medicina Tradizionale Cinese Villa Giada":MAILTO:villagiada@chinalink.it
END:VEVENT
BEGIN:VEVENT
DTSTART;TZID=Europe/Rome:20260418T080000
DTEND;TZID=Europe/Rome:20260606T170000
DTSTAMP:20260419T203121
CREATED:20260204T104046Z
LAST-MODIFIED:20260204T104050Z
UID:11250-1776499200-1780765200@chinalink.it
SUMMARY:Corso di Estetica Olistica MTC
DESCRIPTION:Corso intensivo di Estetica Olistica MTC per medici e operatori olistici che desiderano acquisire competenze avanzate nel trattamento delle principali problematiche estetiche. Iscrizioni aperte fino al 5 aprile 2026. Per info e iscrizioni: https://chinalink.it/estetica-mtc/
URL:https://chinalink.it/appuntamento/corso-di-estetica-olistica-mtc-2/
LOCATION:RM
ORGANIZER;CN="Istituto Superiore di Medicina Tradizionale Cinese Villa Giada":MAILTO:villagiada@chinalink.it
END:VEVENT
BEGIN:VEVENT
DTSTART;TZID=Europe/Rome:20260620T080000
DTEND;TZID=Europe/Rome:20260621T170000
DTSTAMP:20260419T203121
CREATED:20260204T105122Z
LAST-MODIFIED:20260326T150626Z
UID:11255-1781942400-1782061200@chinalink.it
SUMMARY:Corso di Automassaggio Yangsheng
DESCRIPTION:Automassaggio Yangsheng – Coltivare la vita con le proprie mani \n\n\n\nL’Automassaggio Yangsheng è un metodo antico della Medicina Tradizionale Cinese che permette a ognuno di diventare protagonista attivo della propria salute. Attraverso semplici tecniche manuali derivate dal Tuina\, apprese gradualmente\, si impara a stimolare i punti e i meridiani per preservare il benessere e sostenere il riequilibrio. \n\n\n\nA chi si rivolge:A tutti\, senza alcuna conoscenza preliminare. Ideale per chi si avvicina per la prima volta al Tuina e ai meridiani\, per chi desidera uno strumento semplice di prevenzione e benessere quotidiano\, o per chi vuole acquisire le basi tecniche senza seguire un percorso completo. \n\n\n\nNel corso:Tecniche di base del Tuina (pressione rotatoria\, frizione\, sfioramento\, percussione elastica)\, principali punti dei meridiani\, sensazioni di arrivo del qi (indolenzimento e gonfiore)\, esecuzione con cuore tranquillo\, qi armonioso e presenza mentale unificata. \n\n\n\nDocente: Lucia Rinaldi \n\n\n\nInfo e iscrizioni: https://chinalink.it/automassaggio-yangsheng/
URL:https://chinalink.it/appuntamento/corso-di-automassaggio-yangsheng/
LOCATION:Istituto Superiore di Medicina Tradizionale Cinese Villa Giada\, Via Attilio Odero 17\, Roma\, RM\, 00133
ORGANIZER;CN="Istituto Superiore di Medicina Tradizionale Cinese Villa Giada":MAILTO:villagiada@chinalink.it
END:VEVENT
END:VCALENDAR