BEGIN:VCALENDAR
VERSION:2.0
PRODID:-//Villa Giada MTC Roma - ECPv6.15.20//NONSGML v1.0//EN
CALSCALE:GREGORIAN
METHOD:PUBLISH
X-WR-CALNAME:Villa Giada MTC Roma
X-ORIGINAL-URL:https://chinalink.it
X-WR-CALDESC:Eventi per Villa Giada MTC Roma
REFRESH-INTERVAL;VALUE=DURATION:PT1H
X-Robots-Tag:noindex
X-PUBLISHED-TTL:PT1H
BEGIN:VTIMEZONE
TZID:Europe/Rome
BEGIN:DAYLIGHT
TZOFFSETFROM:+0100
TZOFFSETTO:+0200
TZNAME:CEST
DTSTART:20180325T010000
END:DAYLIGHT
BEGIN:STANDARD
TZOFFSETFROM:+0200
TZOFFSETTO:+0100
TZNAME:CET
DTSTART:20181028T010000
END:STANDARD
BEGIN:DAYLIGHT
TZOFFSETFROM:+0100
TZOFFSETTO:+0200
TZNAME:CEST
DTSTART:20190331T010000
END:DAYLIGHT
BEGIN:STANDARD
TZOFFSETFROM:+0200
TZOFFSETTO:+0100
TZNAME:CET
DTSTART:20191027T010000
END:STANDARD
BEGIN:DAYLIGHT
TZOFFSETFROM:+0100
TZOFFSETTO:+0200
TZNAME:CEST
DTSTART:20200329T010000
END:DAYLIGHT
BEGIN:STANDARD
TZOFFSETFROM:+0200
TZOFFSETTO:+0100
TZNAME:CET
DTSTART:20201025T010000
END:STANDARD
BEGIN:DAYLIGHT
TZOFFSETFROM:+0100
TZOFFSETTO:+0200
TZNAME:CEST
DTSTART:20210328T010000
END:DAYLIGHT
BEGIN:STANDARD
TZOFFSETFROM:+0200
TZOFFSETTO:+0100
TZNAME:CET
DTSTART:20211031T010000
END:STANDARD
END:VTIMEZONE
BEGIN:VEVENT
DTSTART;TZID=Europe/Rome:20200108T190000
DTEND;TZID=Europe/Rome:20200108T201500
DTSTAMP:20260420T091943
CREATED:20191221T111412Z
LAST-MODIFIED:20191221T113751Z
UID:4601-1578510000-1578514500@chinalink.it
SUMMARY:Training di Zhineng Qigong
DESCRIPTION:Training settimanale\, il mercoledì dalle ore 19 alle 20.15\, aperto a tutti coloro che desiderano riconettersi con la natura ed in essa ritrovare l’energia vitale\, apprendere e praticare un metodo universale per migliorare la postura\, implementare il proprio stato di salute\, migliorare le relazioni\, sviluppare la consapevolezza del “qui e ora” indirizzare la mente verso i propri obiettivi positivi. \nZhineng Qigong è un metodo di Qigong moderno\, nato in Cina negli anni 60 dello scorso secolo sulla base della tradizione millenaria del Qigong\, diffuso in tutto il mondo grazie alle sue caratteristiche di semplicità\, velocità\, universalità\, efficacia. \nNel corso del training si studieranno i 6 esercizi fondamentali del primo livello dello Zhineng Qigong: \nLa forma principale Peng Qi Guan Ding Fa\nLa posizione statica Zhan Zhuan\nLa flessione sulle gambe Dun Qian Fa\nLa posizione statica delle braccia Zhen-Qi\nStiramento dell’Energia La Qi\nMassaggio addominale Rou Fa \nApprofondimenti teorici sulla Scienza dello Zhineng Qigong saranno forniti a completamento dell’insegnamento delle tecniche; i materiali di studio sono a disposizione degli allievi nell’Aula virtuale riservata agli iscritti. \nOgni lezione sarà integrata da momenti di mindfulness e rilassamento. \nInsegnante: Aglaia Kochelokhov – Diplomata in Tuina e Tecniche Integrate e Zhineng Qigong presso l’Istituto Superiore MTC Villa Giada
URL:https://chinalink.it/appuntamento/training-di-zhineng-qigong/
LOCATION:rm
ATTACH;FMTTYPE=image/jpeg:https://chinalink.it/wp-content/uploads/2017/05/chi_shen.jpg
END:VEVENT
BEGIN:VEVENT
DTSTART;TZID=Europe/Rome:20200108T160000
DTEND;TZID=Europe/Rome:20200108T190000
DTSTAMP:20260420T091943
CREATED:20191221T110709Z
LAST-MODIFIED:20191221T110709Z
UID:4596-1578499200-1578510000@chinalink.it
SUMMARY:Corso di Lingua Cinese - prima lezione gratuita
DESCRIPTION:Prima lezione gratuita del Corso Elementare di Lingua Cinese: \nlivello 1a) per principianti assoluti: h 16.30-18\nlivello 1b) per studenti con una prima formazione di base:  h 18-19.30 \nLe lezioni con frequenza settimanale si svolgono il MERCOLEDI’\, da gennaio a giugno 2020 per un totale di 36 ore di insegnamento frontale \, con l’insegnante di madrelingua cinese Li Yan. \nIl metodo didattico privilegia la conversazione\, con un apprendimento induttivo e funzionale delle strutture grammaticali ed un graduale approccio alla scrittura dei caratteri. \nQuota di iscrizione annuale € 45\,00\nQuota di frequenza semestre € 375\,00 (divisibile in due rate trimestrali) \n— prima lezione gratuita – prenotazione obbligatoria!
URL:https://chinalink.it/appuntamento/corso-di-lingua-cinese-prima-lezione-gratuita/
LOCATION:Istituto Superiore MTC Villa Giada\, via volturno 2c\, ROMA\, rm\, 00185\, Italia
ATTACH;FMTTYPE=image/jpeg:https://chinalink.it/wp-content/uploads/2019/12/linguacinese.jpg
END:VEVENT
BEGIN:VEVENT
DTSTART;TZID=Europe/Rome:20191215T160000
DTEND;TZID=Europe/Rome:20191215T200000
DTSTAMP:20260420T091943
CREATED:20191115T121035Z
LAST-MODIFIED:20191122T100559Z
UID:4539-1576425600-1576440000@chinalink.it
SUMMARY:Le cinque vie del Qigong: open day
DESCRIPTION:Una fantastica giornata dedicata al Qigong in cui potrai orientarti tra le 5 opzioni che Villa Giada ti propone con l’aiuto dei suoi docenti.\nPotrai sapere di più su:\n–Zhineng Qigong; ovvero una nuova scuola di Qigong nata negli anni ’60 in Cina e diffusa in tutto il mondo per le sue caratteristiche di semplicità ed efficacia.\n–Yangsheng Qigong i sei suoni; questo tipo di Qigong si occupa di “nutrire la vita” (Yangsheng) con il riequilibrio degli organi in armonia con le stagioni.\n–8 Trigrammi; 8 esercizi che favoriscono il riscaldamento\, rafforzamento e allungamento della muscolatura\, allenano la connessione strutturale e favoriscono il fluire del Qi (energia vitale)\n–Camminate terapeutiche; Aiutano il Qi degli organi interni a scorrere nella giusta direzione; abbinando il passo\, al respiro ed alla stimolazione di specifici punti relativi ai meridiani degli organi interni\, favoriscono l’armonizzazione delle loro funzioni.\n-8 Esercizi di Broccato Baduanjin; Tra le tecniche di Qigong dell’antica Cina\, il “Baduanjin” è quella diffusa da più tempo\, e che ha avuto la maggiore influenza nella storia dello sviluppo del Qigong. Gli antichi chiamarono questa tecnica “broccato”\, nel senso che i movimenti di stretching sono altrettanto belli e soffici (flessibili) come un tessuto di broccato\, e poiché l’esercizio è composto da otto parti\, lo chiamarono “otto pezzi di broccato”. \nIngresso libero con prenotazione
URL:https://chinalink.it/appuntamento/una-fantastica-giornata-dedicata-al-qigong-in-cui-potrai-orientarti-tra-le-5-opzioni-che-villa-giada-ti-propone-con-laiuto-dei-suoi-docenti-ingresso-libero-con-prenotazione/
LOCATION:Istituto Superiore MTC Villa Giada\, via volturno 2c\, ROMA\, rm\, 00185\, Italia
ATTACH;FMTTYPE=image/jpeg:https://chinalink.it/wp-content/uploads/2019/11/26758407_1818904454817317_2946723354415338805_o.jpg
END:VEVENT
BEGIN:VEVENT
DTSTART;TZID=Europe/Rome:20191123T090000
DTEND;TZID=Europe/Rome:20191123T163000
DTSTAMP:20260420T091943
CREATED:20190930T164245Z
LAST-MODIFIED:20191115T121255Z
UID:4312-1574499600-1574526600@chinalink.it
SUMMARY:Shiatsu - Seminari di approfondimento
DESCRIPTION:Ripartono gli appuntamenti Shiatsu con due lezioni di livello avanzato\, aperte a tutti gli operatori con basi formative Shiatsu: \nI Seminario: Sabato 26 ottobre 2019 h 9-16.30 \nLe manipolazioni aggiuntive: tecniche manipolative\, complementari alle pressioni effettuate con il tradizionale massaggio\, per completare il trattamento ed aggiungere\, cosi\, ove servisse\,  manovre yang ad un trattamento principalmente yin. \nII Seminario Sabato 23 novembre h 9 – 16.30 \nDiagnosi shiatsu e riflessologie corporee. Differenze tra i vari stili di shiatsu: Velocità di esecuzione\, piano di appoggio: lettino/futon e pressioni/manipolazioni. \nPer informazioni e adesioni: https://chinalink.it/prenotazioni/ \n  \nIl Corso annuale di Shiatsu si avvia il  25 gennaio 2020\, info alla pagina: https://chinalink.it/shiatsu/
URL:https://chinalink.it/appuntamento/corso-di-shiatsu/
LOCATION:Istituto Superiore MTC Villa Giada\, via volturno 2c\, ROMA\, rm\, 00185\, Italia
ATTACH;FMTTYPE=image/jpeg:https://chinalink.it/wp-content/uploads/2019/09/dianyuan.jpg
END:VEVENT
BEGIN:VEVENT
DTSTART;TZID=Europe/Rome:20191117T090000
DTEND;TZID=Europe/Rome:20191117T160000
DTSTAMP:20260420T091943
CREATED:20191024T101436Z
LAST-MODIFIED:20191024T101436Z
UID:4452-1573981200-1574006400@chinalink.it
SUMMARY:Teoria di base della Medicina Tradizionale Cinese - APERTURA CORSO
DESCRIPTION:La Teoria di base della Medicina Tradizionale Cinese è la chiave per accedere alla formazione nelle diverse discipline\, dall’Agopuntura al Tuina\, alla Fitoterapia\, di cui la scienza medica cinese si compone. Il Corso è materia comune del primo anno di tutti gli iter di formazione completa e può essere frequentato anche singolarmente come corso a se stante\, da tutti gli interessati alla materia. \nIl Corso completo si articola in 6 seminari in presenza più le attività di ripasso ed esame\, e comprende il Corso online. I seminari in presenza si svolgono il sabato o la domenica\, una volta al mese\, da novembre a giugno e su richiesta motivata possono essere seguiti anche online tramite streaming youtube. \nI materiali di studio disponibili nell’Aula virtuale comprendono dispense complete in PDF scaricabili  e stampabili\, basate sulla traduzione dall’originale cinese dei testi di studio in uso nelle Università Cinesi di MTC (circa 250 pgg)\,  tavole e diagrammi illustrativi\,  approfondimenti\,  test online di autovalutazione\, con l’assistenza del tutor. \nAl termine del Corso completo e al superamento degli esami si consegue l’Attestato di frequenza e l’ammissione al secondo anno dei Corsi di formazione in Medicina Tradizionale Cinese. \nE’ anche possibile richiedere il solo accesso al Corso online\, con il rilascio dell’Attestato di frequenza online .
URL:https://chinalink.it/appuntamento/teoria-di-base-della-medicina-tradizionale-cinese-apertura-corso/
LOCATION:Istituto Superiore MTC Villa Giada\, via volturno 2c\, ROMA\, rm\, 00185\, Italia
ATTACH;FMTTYPE=image/jpeg:https://chinalink.it/wp-content/uploads/2017/07/bnyy_bis_taomaturgia.jpg
END:VEVENT
BEGIN:VEVENT
DTSTART;TZID=Europe/Rome:20191117T090000
DTEND;TZID=Europe/Rome:20191117T160000
DTSTAMP:20260420T091943
CREATED:20191024T094928Z
LAST-MODIFIED:20191024T094928Z
UID:4450-1573981200-1574006400@chinalink.it
SUMMARY:CORSI DI FORMAZIONE COMPLETA MTC - INIZIO CORSI
DESCRIPTION:I Corsi biennali e triennali di formazione completa in MTC si distinguono in 5 iter formativi principali: Agopuntura e Moxa; Tuina e Tecniche Integrate; Dietetica e Fitoterapia Cinese; Tecniche Olistiche Yangsheng; Qigong Teoria e pratica.\n\n\nTutti i Corsi condividono al primo anno lo studio della Teoria di base della Medicina Tradizionale Cinese e si compongono di moduli didattici che possono essere frequentati anche singolarmente\, rispettando le propedeuticità richieste\, con l’obiettivo di completare la formazione a tutto campo nelle diverse discipline della Medicina Tradizionale Cinese e Integrata.   L’allievo è invitato a scegliere un iter formativo principale\, sulla base del quale potrà aggiungere moduli didattici esterni\, usufruendo di particolari agevolazioni sulle quote di iscrizione e frequenza. \nPresso la Segreteria Formazione è attivo un servizio di orientamento didattico sui piani di studio personalizzati.
URL:https://chinalink.it/appuntamento/corsi-di-formazione-completa-mtc-inizio-corsi/
LOCATION:Istituto Superiore MTC Villa Giada\, via volturno 2c\, ROMA\, rm\, 00185\, Italia
ATTACH;FMTTYPE=image/png:https://chinalink.it/wp-content/uploads/2018/07/formazione_.png
END:VEVENT
BEGIN:VEVENT
DTSTART;TZID=Europe/Rome:20191116T090000
DTEND;TZID=Europe/Rome:20191116T160000
DTSTAMP:20260420T091943
CREATED:20191024T093940Z
LAST-MODIFIED:20191024T164439Z
UID:4447-1573894800-1573920000@chinalink.it
SUMMARY:Corso di Riflessologia Plantare - lezione 1
DESCRIPTION:Il Corso di Riflessologia Plantare fa parte del Corso triennale di Tecniche Olistiche Yangsheng e si presenta anche come corso completo a se stante. L’esperienza dell’insegnante\, il metodo didattico originale e il continuo confronto teoria-pratica consentono ai partecipanti di sperimentare personalmente i benefici della tecnica e di essere subito in grado di applicarla. \nIl Corso completo si articola in livello base e livello avanzato.  Il livello base si compone di 10 moduli di 4 ore ciascuno distribuiti in 5 giornate\,  il livello avanzato si compone di 4 moduli di 4 ore ciascuno distribuiti in 2 giornate.  Per entrambi i livelli si prevede un test di verifica ed alla conclusione del Corso il  conseguimento finale dell’Attestato. \nLe lezioni si svolgono il sabato o la domenica\, dalle 9 alle 16.30 nella sede dell’Istituto a Roma\, in via Volturno 2c. \nDispense e mappe sono comprese nel Corso e disponibili per gli allievi nell’Aula virtuale dell’Istituto. Numero massimo di partecipanti: 8 per classe. \n  \nper maggiori info: https://chinalink.it/riflessologia-plantare/
URL:https://chinalink.it/appuntamento/corso-di-riflessologia-plantare-lezione-1/
LOCATION:Istituto Superiore MTC Villa Giada\, via volturno 2c\, ROMA\, rm\, 00185\, Italia
ATTACH;FMTTYPE=image/gif:https://chinalink.it/wp-content/uploads/2019/10/IMG_0181.gif
END:VEVENT
BEGIN:VEVENT
DTSTART;TZID=Europe/Rome:20191028T170000
DTEND;TZID=Europe/Rome:20191028T200000
DTSTAMP:20260420T091943
CREATED:20191002T145438Z
LAST-MODIFIED:20191025T152031Z
UID:4318-1572282000-1572292800@chinalink.it
SUMMARY:open day lingua cinese
DESCRIPTION:Vi invitiamo a conoscere l’insegnante Li Yan e le proposte didattiche di lingua cinese per diversi livelli e esigenze: \n– corsi in classe di livello elementare\, intermedio base e intermedio superiore\, per adulti e adolescenti\n– lezioni on demand individuali e per piccoli gruppi\n– preparazione agli esami universitari e HSK\n– cineforum in lingua con commento e discussione\n– incontri di conversazione con degustazione di tè cinese\n– e altro… \nProgramma della giornata \nh 17:30 apertura con tè di benvenuto – presentazione dei programmi di livello elementare\, intermedio e avanzato\nh 18:00 lezione introduttiva per principianti assoluti\nh 19:00 – 19:45 proiezione della prima puntata della famosa serie TV “Viaggio in Occidente” (Nascita del Re delle Scimmie) tratta dal romanzo classico del 1590 in cui si narrano le vicende del monaco Xuan Zang\, incaricato dalla bodhisattva Guan Yin di recarsi in India alla ricerca delle sacre scritture buddhiste\, accompagnato da tre personaggi fantastici: lo scimmiotto\, il maialino e il demone fluviale. In lingua originale con traduzione e commento dal vivo. \n\nIngresso libero con prenotazione\nemail villagiada@chinalink.it w’app 3384455175 \n\nemail villagiada@chinalink.it\ntel 06.4815580\nmobile-whatsapp 338.4455175\nwww.chinalink.it
URL:https://chinalink.it/appuntamento/open-days-corsi-di-lingua-cinese/
LOCATION:Istituto Superiore MTC Villa Giada\, via volturno 2c\, ROMA\, rm\, 00185\, Italia
ATTACH;FMTTYPE=image/jpeg:https://chinalink.it/wp-content/uploads/2019/10/Sunwukong.jpg
END:VEVENT
BEGIN:VEVENT
DTSTART;TZID=Europe/Rome:20191005T160000
DTEND;TZID=Europe/Rome:20191006T160000
DTSTAMP:20260420T091943
CREATED:20190723T103606Z
LAST-MODIFIED:20191024T150521Z
UID:4017-1570291200-1570377600@chinalink.it
SUMMARY:Corso di Alimentazione per animali d'affezione
DESCRIPTION: “Il potere del cibo secondo la MTC“\,  Corso di Alimentazione per Animali d’affezione è in programma a Roma dal 5 ottobre. Tra i temi trattati\, le basi di anatomia e fisiologia digerente del cane e del gatto\, introduzione alla teoria yin yang\, 5 elementi e zangfu\, dietetica cinese (natura\, direzione\, sapore\, geografia e parti della pianta\, caratteristiche e qualità delle materie prime di origine animale); i cibi secondo le categorie occidentali (cereali\, carni\, latticini\, olii e grassi\, vegetali\, semi e frutti) in ottica MTC; le etichette alimentari: imparare a leggerle in ottica occidentale e MTC; le costituzioni e le personalità dell’animale in MTC veterinaria; l’alimentazione in base alle fasce d’età secondo la MTC veterinaria\, cenni di diagnosi in MTC veterinaria\, esempi pratici di abbinamenti alimentari in animali sani\, esempi pratici di abbinamenti alimentari in animali con disarmonie\, obesità negli animali in ottica occidentale e MTC. \nLa docente dott.ssa Pamela Bonaccini\,  laureata con Lode in Medicina Veterinaria presso l’Ateneo di Pisa nel 2007\, ha lavorato presso il LINV (Laboratorio Internazionale di Neurobiologia Vegetale)  approfondendo la fitoterapia\, la fitoalimurgia e la comunicazione vegetale attraverso VOCs (volatile organic compounds). Successivamente si forma in medicina tradizionale cinese ed agopuntura e approfondisce la dietetica veterinaria presso il Chi Institute – Traditional Chinese Veterinary Medicine (Florida). \nL’approccio olistico e i metodi naturali della Medicina Tradizionale Cinese applicati alla cura degli animali d’affezione sono i temi dei Corsi e Seminari che l’Italian TCM Academy Villa Giada propone nell’ambito della propria offerta formativa. Il Corso di Alimentazione per animali d’affezione “Il potere del cibo secondo la MTC” si articola in 4 weekend intensivi il sabato dalle 16 alle 20 e la domenica dalle 9 alle 16\, dal 5 ottobre al 1° dicembre. \nLe iscrizioni si accettano fino al 25 settembre. Consulta le info complete sul calendario e i costi ed iscriviti online qui \n 
URL:https://chinalink.it/appuntamento/corso-di-alimentazione-per-animali-daffezione/
LOCATION:Istituto Superiore MTC Villa Giada\, via volturno 2c\, ROMA\, rm\, 00185\, Italia
ATTACH;FMTTYPE=image/jpeg:https://chinalink.it/wp-content/uploads/2019/07/61388905_2735704486470638_6931443428894965760_n.jpg
END:VEVENT
BEGIN:VEVENT
DTSTART;TZID=Europe/Rome:20190928T093000
DTEND;TZID=Europe/Rome:20190929T170000
DTSTAMP:20260420T091943
CREATED:20190723T104640Z
LAST-MODIFIED:20190726T161322Z
UID:4026-1569663000-1569776400@chinalink.it
SUMMARY:Corso di Massaggio Thailandese Tradizionale
DESCRIPTION:Corso intensivo di livello base in due giornate per apprendere tecniche del massaggio Nuad Thai per effettuare un trattamento completo\, rilassante e distensivo di un’ora e trenta minuti. \nInfo \n 
URL:https://chinalink.it/appuntamento/corso-di-massaggio-thailandese-tradizionale/
LOCATION:rm
ATTACH;FMTTYPE=image/jpeg:https://chinalink.it/wp-content/uploads/2019/07/timg.jpg
END:VEVENT
BEGIN:VEVENT
DTSTART;TZID=Europe/Rome:20190808T080000
DTEND;TZID=Europe/Rome:20190831T080000
DTSTAMP:20260420T091943
CREATED:20190723T104101Z
LAST-MODIFIED:20190723T104101Z
UID:4021-1565251200-1567238400@chinalink.it
SUMMARY:Borsa di studio in Cina presso l'Università MTC di Tianjin
DESCRIPTION:Inizia l’8 agosto il soggiorno studio in Cina per il gruppo di Villa Giada che seguirà lezioni teoriche presso il Dipartimento Internazionale dell’Università e tirocinio pratico presso il primo Ospedale affiliato alla Tianjin TCM University.
URL:https://chinalink.it/appuntamento/borsa-di-studio-in-cina-presso-luniversita-mtc-di-tianjin/
LOCATION:Tianjin University of TCM\, Cina
ATTACH;FMTTYPE=image/jpeg:https://chinalink.it/wp-content/uploads/2018/02/logo-tianjin-university.jpg
END:VEVENT
BEGIN:VEVENT
DTSTART;TZID=Europe/Rome:20190616T080000
DTEND;TZID=Europe/Rome:20190616T170000
DTSTAMP:20260420T091943
CREATED:20190516T123404Z
LAST-MODIFIED:20190516T123404Z
UID:3887-1560672000-1560704400@chinalink.it
SUMMARY:Corso di Dietetica e Fitoterapia Yangsheng
DESCRIPTION:testo
URL:https://chinalink.it/appuntamento/corso-di-dietetica-e-fitoterapia-yangsheng/
LOCATION:Esempio luogo\, Via Cernaia 53\, Roma\, Italia
ATTACH;FMTTYPE=image/jpeg:https://chinalink.it/wp-content/uploads/2018/12/gouqi.jpg
END:VEVENT
BEGIN:VEVENT
DTSTART;TZID=Europe/Rome:20190601T080000
DTEND;TZID=Europe/Rome:20191031T170000
DTSTAMP:20260420T091943
CREATED:20190723T102750Z
LAST-MODIFIED:20190730T154221Z
UID:4014-1559376000-1572541200@chinalink.it
SUMMARY:Iscrizioni Corsi Formazione completa MTC
DESCRIPTION:Iscrizione ai Corsi di Formazione in Medicina Tradizionale Cinese e Discipline Olistiche dell’A.A. 2019-20 \nContatta la Segreteria per ulteriori informazioni \nFormazione completa Medicina Tradizionale Cinese
URL:https://chinalink.it/appuntamento/promozione-iscrizioni-corsi-mtc/
LOCATION:Italia
ATTACH;FMTTYPE=image/jpeg:https://chinalink.it/wp-content/uploads/2017/10/mtc.jpg
END:VEVENT
BEGIN:VEVENT
DTSTART;TZID=Europe/Rome:20190524T080000
DTEND;TZID=Europe/Rome:20190524T170000
DTSTAMP:20260420T091943
CREATED:20190515T124125Z
LAST-MODIFIED:20190516T123102Z
UID:3876-1558684800-1558717200@chinalink.it
SUMMARY:Viaggio Qigong in Cina dal m° Liu Jianshe
DESCRIPTION:Testo testo testo prova
URL:https://chinalink.it/appuntamento/esempio-evento/
LOCATION:Esempio luogo\, Via Cernaia 53\, Roma\, Italia
ATTACH;FMTTYPE=image/jpeg:https://chinalink.it/wp-content/uploads/2019/03/equinozio-primavera.jpeg
END:VEVENT
BEGIN:VEVENT
DTSTART;TZID=Europe/Rome:20190519T080000
DTEND;TZID=Europe/Rome:20190519T170000
DTSTAMP:20260420T091943
CREATED:20190515T124159Z
LAST-MODIFIED:20190516T123129Z
UID:3879-1558252800-1558285200@chinalink.it
SUMMARY:Corso di Yangsheng Qigong - I Sei Suoni del maestro Li Rongwei
DESCRIPTION:testo testo
URL:https://chinalink.it/appuntamento/esempio-11/
LOCATION:Esempio luogo\, Via Cernaia 53\, Roma\, Italia
ATTACH;FMTTYPE=image/jpeg:https://chinalink.it/wp-content/uploads/2019/03/48389862_2400823023292121_5242837905025531904_o.jpg
END:VEVENT
END:VCALENDAR